BEGIN:VCALENDAR
VERSION:2.0
PRODID:-//wp-events-plugin.com//7.2.3.1//EN
TZID:Europe/Lisbon
X-WR-TIMEZONE:Europe/Lisbon
BEGIN:VEVENT
UID:55@gemaveiro.org
DTSTART;TZID=Europe/Lisbon:20240525T130000
DTEND;TZID=Europe/Lisbon:20240525T160000
DTSTAMP:20240514T142427Z
URL:https://gemaveiro.org/eventos/almoco-gema-2024/
SUMMARY:Almoço Gema 2024
DESCRIPTION:Almoço Gema 2024\n- 25 maio -\nA tradicional feijoada herdeira
  de muitas histórias montanheiras!... Quem quiser vir que venha por bem!.
 ..\n\nPodem convidar os primos e as primas\, os vizinhos\, os amigos\, os 
 inimigos\, o António Boto e o Bocage\, todos serão bem-vindos. Apenas t
 êm de dizer quantos são.\n\nNo fim o preço não deverá ir além dos 5/
 6 euros.\nIndicar número de acompanhantes.
END:VEVENT
BEGIN:VTIMEZONE
TZID:Europe/Lisbon
X-LIC-LOCATION:Europe/Lisbon
BEGIN:DAYLIGHT
DTSTART:20240331T020000
TZOFFSETFROM:+0000
TZOFFSETTO:+0100
TZNAME:WEST
END:DAYLIGHT
END:VTIMEZONE
END:VCALENDAR