BEGIN:VCALENDAR
VERSION:2.0
PRODID:-//wp-events-plugin.com//7.2.3.1//EN
TZID:Europe/Lisbon
X-WR-TIMEZONE:Europe/Lisbon
BEGIN:VEVENT
UID:47@gemaveiro.org
DTSTART;TZID=Europe/Lisbon:20230726T000000
DTEND;TZID=Europe/Lisbon:20230803T000000
DTSTAMP:20230510T190746Z
URL:https://gemaveiro.org/eventos/alpes-dinaricos-da-albania-ao-kosovo/
SUMMARY:Alpes Dináricos - da Albania ao Kosovo
DESCRIPTION:\n\nAlpes Dináricos - da Albania ao Kosovo\n- 26 Julho a 3 Ago
 sto 2023 -\nPreço: 735€\n\n\n\nEste ano aventuramo-nos nos Balcãs...\n
 Nove dias de viagem com 5 dias de trekking pelos Alpes Dináricos com iní
 cio na Albânia\, passando pelo Montenegro e final no Kosovo.\n\nPrograma:
 \n\n 	Hotel\, Tirana\n 	Pequena marcha no Parque National de Theth\;\n 	Pa
 rque National de Theth -&gt\; Vusanje\, Montenegro (23km)\;\n 	Vusanje -&g
 t\; Valbona\, via lagos glaciares de Jezerca (18- 20 Km)\;\n 	Valbona -&gt
 \; Çerem\, via passo Prejsllopi (13km)\;\n 	Çerem -&gt\; Doberol (15km)\
 ;\n 	Doberol -&gt\; Triple Border Point -&gt\; Pico Gjeravica (2656m) -&gt
 \; Junik (20Km) | transfer -&gt\; Prizren\;\n 	Transfer Prizen - &gt\; Ho
 tel\, Pristina\n 	Transfer Hotel\, Pristina -&gt\; aeroporto.\n\n-&gt\; Pr
 ograma\nNecessário Passaporte com 6 meses de validade à data da activida
 de.\n\n\n\n\nIncluído:\n\n 	transporte Hotel em Tirana -&gt\; Shkoder -&g
 t\; Theth\n 	transporte em Theth\n 	transporte último dia de marcha de Ju
 nik -&gt\; Prizren\n 	transporte de Prizren -&gt\; Pristina\n 	alojamento 
 durante os dias de marcha\n 	hotel em Tirana\n 	hotel em Prizren e Prishti
 na nas duas últimas noites\n 	licenças fronteiriças\n 	alimentação du
 rante os dias de marcha: pequeno-almoço\, packed lunch e jantar nos aloja
 mentos\n\n&nbsp\;\n\nNão inclui: \n\n 	Qualquer item não mencionado como
  incluído\; Despesas pessoais.\n\n\n\n\nNúmero limitado de inscrições 
 \n- até 28 Fevereiro 2023 -\nPlano de pagamentos: inscrição - 235 € 
 \n20 Março - 100 € || 20 Abril - 100 € || 20 Maio - 100 € || 20 Jun
 ho - 100 € || 20 Julho - 100€\nNão fazemos devolução de dinheiro\n\
 n\n\n\nImportante:\n\n 	Não padecer de qualquer condicionamento físico o
 u outro que limite a mobilidade individual ou do grupo.\n 	Ser portador de
  licença desportiva e seguro FCMP actualizados.\n\n\n\n\nNOTA:\nInscriç
 ão válida após boa cobrança da primeira prestação\nIBAN para pagamen
 to: PT50 0010 0000 3560 5980 0017 5\n– Qualquer alteração será devida
 mente comunicada –
CATEGORIES:montanha,trek
END:VEVENT
BEGIN:VTIMEZONE
TZID:Europe/Lisbon
X-LIC-LOCATION:Europe/Lisbon
BEGIN:DAYLIGHT
DTSTART:20230326T020000
TZOFFSETFROM:+0000
TZOFFSETTO:+0100
TZNAME:WEST
END:DAYLIGHT
END:VTIMEZONE
END:VCALENDAR