BEGIN:VCALENDAR
VERSION:2.0
PRODID:-//wp-events-plugin.com//7.2.3.1//EN
TZID:Europe/Lisbon
X-WR-TIMEZONE:Europe/Lisbon
BEGIN:VEVENT
UID:29@gemaveiro.org
DTSTART;TZID=Europe/Lisbon:20201127T180000
DTEND;TZID=Europe/Lisbon:20201129T220000
DTSTAMP:20201028T230814Z
URL:https://gemaveiro.org/eventos/castelo-branco/
SUMMARY:Castelo Branco\, PR1 e PR8
DESCRIPTION:Castelo Branco\n| PR1\, Rota da Gardunha |\n| PR8\, Rota dos Mo
 inhos - Almaceda/Sarzedas |\n27 - 29 Novembro 2020\n- Preço: 69 € -\n\
 n"Mais à frente\, é o reino das formas graníticas\, verdadeiros monumen
 tos geológicos\, no alto do castelo Velho (1443 m)."\n"O Percurso dos Moi
 nhos tem início em Martim Branco\, interessante aldeia em xisto que faz p
 arte do roteiro das Aldeias do Xisto de Castelo Branco."\n\n\n\n27 Novembr
 o 2020 | Hora: 22:00 (encontro)\n\nInscrições até dia 11 Novembro\n\n\n
 \n 	PR8 - Sábado\, 28 Nov\nIBP Index: PR1 - 69\nDist.: 23\,5 km\nDesníve
 l acumul subir: 470m\nDesnível acumul descer: 470m\nCircular\n\n\n\n 	PR1
  - Domingo\, 29 Nov\nIBP Index: PR1 - 63\nDist.: 17\,4 km\nDesnível acumu
 l subir: 630m\nDesnível acumul descer: 630m\nCircular\n\n\n\n\n\ninclui: 
  Estadia em Salgueiro do Campo (2 noites)\; 2 Pequenos almoços\; 1 janta
 r (Sábado).\n\n\nnão inclui: quaisquer despesas individuais.\n\n\n\n\n\
 nImportante:\n\n 	Não padecer de qualquer condicionamento físico ou outr
 o que limite a mobilidade individual ou do grupo.\n 	Ser portador de licen
 ça desportiva e seguro FCMP.\n\n\nPagamentos:\nIBAN para pagamento: PT50 
 0010 0000 3560 5980 0017 5\n\nNOTA: Inscrição válida após boa cobranç
 a da primeira prestação\n- Qualquer alteração será devidamente comuni
 cada -\n
CATEGORIES:trek
END:VEVENT
BEGIN:VTIMEZONE
TZID:Europe/Lisbon
X-LIC-LOCATION:Europe/Lisbon
BEGIN:STANDARD
DTSTART:20201025T010000
TZOFFSETFROM:+0100
TZOFFSETTO:+0000
TZNAME:WET
END:STANDARD
END:VTIMEZONE
END:VCALENDAR