BEGIN:VCALENDAR
VERSION:2.0
PRODID:-//wp-events-plugin.com//7.2.3.1//EN
TZID:Europe/Lisbon
X-WR-TIMEZONE:Europe/Lisbon
BEGIN:VEVENT
UID:49@gemaveiro.org
DTSTART;TZID=Europe/Lisbon:20230603T000000
DTEND;TZID=Europe/Lisbon:20230604T000000
DTSTAMP:20230209T093047Z
URL:https://gemaveiro.org/eventos/de-arouca-a-covelo-do-paivo/
SUMMARY:De Arouca a Covelo do Paivô
DESCRIPTION:De Arouca a Covelo do Paivô\nAtividade conjunta com o Clube P
 és Livres da Madeira\n- 3 e 4 de Junho 2023 -\nPreço: 75.00 €\n\n\n\nO
  GR28 “Por Montes e Vales de Arouca” é um percurso pedestre de grande
  rota que envolve o vale de Arouca\, a serra da Freita\, os vales do Paiv
 ó e do Paiva\, o Museu das Trilobites Gigantes - Centro de Interpretaçã
 o Geológica de Canelas e o santuário da Sr.ª da Mó... in GR 28 - Por M
 ontes e Vales de Arouca | Arouca Geopark.\n\n\n\ndia 3 - De Arouca ao Parq
 ue de Campismo do Merujal.\n\ndia 4 - De Covêlo do Paivô ao Parque de Ca
 mpismo do Merujal.\nInclui: noite em Hotel São Pedro\, em regime de Aloja
 mento + Pequeno Almoço\, dois Jantares no Parque de Campismo do Merujal.\
 n\nNão inclui: Qualquer item não mencionado como incluído\; Despesas pe
 ssoais.\nNúmero limitado de inscrições \n(até 25 Maio 2023) \n&nbsp\;
 \n\n\n\nImportante:\n\n 	Não padecer de qualquer condicionamento físico 
 ou outro que limite a mobilidade individual ou do grupo.\n 	Ser portador d
 e licença desportiva e seguro FCMP actualizados.\n\n\n\n\nNOTA:\nInscriç
 ão válida após boa cobrança da primeira prestação\nIBAN para pagamen
 to: PT50 0010 0000 3560 5980 0017 5\n– Qualquer alteração será devida
 mente comunicada –
CATEGORIES:trek
END:VEVENT
BEGIN:VTIMEZONE
TZID:Europe/Lisbon
X-LIC-LOCATION:Europe/Lisbon
BEGIN:DAYLIGHT
DTSTART:20230326T020000
TZOFFSETFROM:+0000
TZOFFSETTO:+0100
TZNAME:WEST
END:DAYLIGHT
END:VTIMEZONE
END:VCALENDAR