BEGIN:VCALENDAR
VERSION:2.0
PRODID:-//wp-events-plugin.com//7.2.3.1//EN
TZID:Europe/Lisbon
X-WR-TIMEZONE:Europe/Lisbon
BEGIN:VEVENT
UID:33@gemaveiro.org
DTSTART;TZID=Europe/Lisbon:20210611T000000
DTEND;TZID=Europe/Lisbon:20210613T220000
DTSTAMP:20210513T135724Z
URL:https://gemaveiro.org/eventos/gr-de-fafe/
SUMMARY:GR 43 - Trilho das Terras Altas de Fafe
DESCRIPTION:GR 43 - Trilho das Terras Altas de Fafe\n- 11 a 13 Junho 2021 -
 \n- Preço: 37 € -\nA Grande Rota do Património e Do Ambiente das Terra
 s Altas de Fafe é um percurso pedestre de tipologia "Grande Rota" com uma
  extensão de 50 km. Atravessando quinze núcleos rurais\, a Grande Rota p
 roporciona uma descoberta de um território onde o Homem e a Natureza oper
 am em harmonia\, numa combinação de saberes intemporais\, possibilitando
 -nos transformar cada momento numa experiência de gentes e memórias\, se
 m tempo nem idade.\n\n\n\n\n| Hora de encontro: 22:00\,  11 Junho | \n| A
 lojamento em Parque de Campismo da Barragem da Queimadela |\n\n 	Sábado:
  \n\nGR43 - Aboim a Queimadela - | Dist.: 24\,03 km\nIBP Index: 90 | Des
 nível acumul subir: 955m | Desnível acumul descer: 670m\n\n 	Domingo: 
 \n\nGR43 - Queimadela a Aboim | Dist.: 24\,25 km\nIBP Index: 85 | Desnív
 el acumul subir: 688m | Desnível acumul descer: 983m\n\n&nbsp\;\n\n\n\nI
 ncluído: Estadia (2 noites) em Parque de Campismo\; 1 Jantar. (tendas di
 sponíveis para quem necessitar. Indicar no momento da inscrição na caix
 a de comentários)\n\nNão incluído: Qualquer item não mencionado como 
 incluído\; Despesas pessoais.\n\n&nbsp\;\n\n\n\nImportante:\n\n 	Não pad
 ecer de qualquer condicionamento físico ou outro que limite a mobilidade 
 individual ou do grupo.\n 	Ser portador de licença desportiva e seguro FC
 MP actualizados.\n\n\n\n\nNOTA:\nInscrição válida após boa cobrança.\
 nIBAN para pagamento: PT50 0010 0000 3560 5980 0017 5\n– Qualquer altera
 ção será devidamente comunicada –
CATEGORIES:montanha,trek
END:VEVENT
BEGIN:VTIMEZONE
TZID:Europe/Lisbon
X-LIC-LOCATION:Europe/Lisbon
BEGIN:DAYLIGHT
DTSTART:20210328T020000
TZOFFSETFROM:+0000
TZOFFSETTO:+0100
TZNAME:WEST
END:DAYLIGHT
END:VTIMEZONE
END:VCALENDAR