BEGIN:VCALENDAR
VERSION:2.0
PRODID:-//wp-events-plugin.com//7.2.3.1//EN
TZID:Europe/Lisbon
X-WR-TIMEZONE:Europe/Lisbon
BEGIN:VEVENT
UID:42@gemaveiro.org
DTSTART;TZID=Europe/Lisbon:20230929T000000
DTEND;TZID=Europe/Lisbon:20231001T000000
DTSTAMP:20230923T112502Z
URL:https://gemaveiro.org/eventos/gr49-gr-do-bussaco/
SUMMARY:GR49\, GR do Bussaco
DESCRIPTION:Grande Rota do Bussaco\, GR49 (linear)\n- 29 Set a 1 Out 2023 -
 \n"A Mata Nacional do Bussaco constitui-se como um espaço de rara beleza 
 e riqueza ao nível da biodiversidade\, verdadeiro oásis da Região Centr
 o para os amantes do turismo de natureza\, possuindo uma das melhores cole
 ções dendrológicas da Europa."\n\n 	sexta  - viagem\, alojamento (Luso
 )\;\n 	sábado - Bussaco - Mortágua (22\,1Km)\;\n 	domingo - Bussaco - Pe
 nacova (23\,1Km)\n\nPequenos-almoços incluídos\nCusto: 65\,00 €\nInscr
 ições até dia 23 Setembro\n\n\n\nInclui:\n- 2 marchas\, Sábado e Domin
 go\n- alojamento\, 2 noites.\n- pequenos-almoços\, Sábado e Domingo\;\n\
 nNão inclui:\nQualquer item não mencionado como incluído\;\nDespesas pe
 ssoais.\n\n\n\nImportante:\n\n 	Não padecer de qualquer condicionamento f
 ísico ou outro que limite a mobilidade individual ou do grupo.\n 	Ser por
 tador de licença desportiva e seguro FCMP actualizados.\n\n\n\n\nNOTA:\nI
 nscrição válida após boa cobrança da primeira prestação\nIBAN para 
 pagamento: PT50 0010 0000 3560 5980 0017 5\n- Qualquer alteração será d
 evidamente comunicada -
CATEGORIES:trek
END:VEVENT
BEGIN:VTIMEZONE
TZID:Europe/Lisbon
X-LIC-LOCATION:Europe/Lisbon
BEGIN:DAYLIGHT
DTSTART:20230326T020000
TZOFFSETFROM:+0000
TZOFFSETTO:+0100
TZNAME:WEST
END:DAYLIGHT
END:VTIMEZONE
END:VCALENDAR