BEGIN:VCALENDAR
VERSION:2.0
PRODID:-//wp-events-plugin.com//7.2.3.1//EN
TZID:Europe/Lisbon
X-WR-TIMEZONE:Europe/Lisbon
BEGIN:VEVENT
UID:58@gemaveiro.org
DTSTART;TZID=Europe/Lisbon:20250215T100000
DTEND;TZID=Europe/Lisbon:20250216T210000
DTSTAMP:20250209T192133Z
URL:https://gemaveiro.org/eventos/lince-e-a-serra-da-malcata/
SUMMARY:Lince e a Serra da Malcata
DESCRIPTION:Lince e a Serra da Malcata\n- 15 e 16 Fevereiro 2025 -\nPreço:
  80 €\n (inclui estadia Residencial Robalo\, um pequeno almoço)\n\nA p
 roposta do GEMA para este fim de semana\, é a Serra da Malcata. Percorrer
 emos os terrenos do Lince Ibérico\, há muito desaparecido destas terras\
 , mas cujo programa de reintrodução pretende minorar. O Rio Coa será o 
 fio condutor dos percursos a realizar.\n"Salvem o Lince e a Serra da Malca
 ta"\n\nInscrições até dia 10 Fevereiro 2025 \n\nPROGRAMA:\n\n 	\n\n 	\
 n\n 	dia 15 Fev 2025 - PR01 SBG - Meandros do Coa\; Jantar Restaurante Rob
 alo (preço indicativo: 25€/pessoa)\;\n 	dia 16 Fev 2025 - PR03 SBG - Na
 scente do Côa.\n\n\n\n\n\n\n\nInclui: Alojamento dia 15 Fevereiro\, em qu
 arto partilhado em regime de alojamento e pequeno almoço. Guia.\nNão inc
 lui: qualquer item não mencionado como incluído\; despesas pessoais.\n\n
 \n\n\n\nO GEMA só organiza atividades para portadores de Licença Desport
 iva da FCMPortugal Licença Desportiva (Antiga Carta de Montanheiro). Tod
 os aqueles que pretendam renovar a sua licença desportiva para 2025\, dev
 em realizar o pagamento para a conta do GEMA\, no valor de 50\,00 € (inc
 luiu seguro modalidade A).\n\n\nIBAN para pagamento: PT50 0045 8719 4037 4
 816 1616 0\n\n\n\n\n\nO GEMA não faz reembolso de verbas pagas para ativi
 dades sobre qualquer pretexto. \n\nLink para seguros da FCMPortugal: https
 ://www.fcmportugal.com/.../2025-Regulamento-Seguros...\n\n\nNão deixem es
 tes procedimentos para a última da hora. 
CATEGORIES:trek
END:VEVENT
BEGIN:VTIMEZONE
TZID:Europe/Lisbon
X-LIC-LOCATION:Europe/Lisbon
BEGIN:STANDARD
DTSTART:20241027T010000
TZOFFSETFROM:+0100
TZOFFSETTO:+0000
TZNAME:WET
END:STANDARD
END:VTIMEZONE
END:VCALENDAR