BEGIN:VCALENDAR
VERSION:2.0
PRODID:-//wp-events-plugin.com//7.2.3.1//EN
TZID:Europe/Lisbon
X-WR-TIMEZONE:Europe/Lisbon
BEGIN:VEVENT
UID:18@gemaveiro.org
DTSTART;TZID=Europe/Lisbon:20200124T000000
DTEND;TZID=Europe/Lisbon:20200126T000000
DTSTAMP:20200118T110338Z
URL:https://gemaveiro.org/eventos/serra-de-gredos-espanha-brevemente/
SUMMARY:Serra de Gredos\, Espanha
DESCRIPTION:Serra de Gredos\, Espanha\n- 24 a 26 Janeiro 2020 -\nlimitado a
  6 lugares (equipamentos disponíveis)\n\nInscrições até 17 de Janeiro\
 nPreço: 100€\n\n\n\ndia 24\, sexta-feira - viagem\; alojamento em Hoyos
  del Espino\; (pequeno-almoço)\;\ndia 25\, sábado - marcha\; alojamento 
 no Refúgio Laguna Grande\; jantar\; (pequeno-almoço)\;\ndia 25\, domingo
  - marcha de regresso\; viagem de retorno a casa.\nNOTA: necessário saco-
 cama\n\n\n\n- inclui: alojamento\, refeições indicadas e equipamento.\n-
  não inclui: transporte e quaisquer despesas individuais.\n\n\n\n\n\n\n\n
 \n\nImportante:\n\n 	Não padecer de qualquer condicionamento físico ou o
 utro que limite a mobilidade individual ou do grupo.\n 	Ser portador de li
 cença desportiva e seguro FCMP.\n\n\n\nNOTA: Inscrição válida após bo
 a cobrança da primeira prestação\nIBAN para pagamento: PT50 0010 0000 3
 560 5980 0017 5\n\n- Qualquer alteração será devidamente comunicada -\n
 \n
CATEGORIES:montanha,trek
END:VEVENT
BEGIN:VTIMEZONE
TZID:Europe/Lisbon
X-LIC-LOCATION:Europe/Lisbon
BEGIN:STANDARD
DTSTART:20191027T010000
TZOFFSETFROM:+0100
TZOFFSETTO:+0000
TZNAME:WET
END:STANDARD
END:VTIMEZONE
END:VCALENDAR